BEGIN:VCALENDAR
METHOD:PUBLISH
X-WR-TIMEZONE:America/Denver
PRODID:-//Hold My Ticket.//HMT Web App//EN
CALSCALE:GREGORIAN
METHOD:PUBLISH
X-WR-CALNAME:Sunshine Theater
X-WR-CALDESC:Upcoming events at Sunshine Theater
BEGIN:VTIMEZONE
TZID:America/Denver 
END:VTIMEZONE
BEGIN:VEVENT
SEQUENCE:2
TRANSP:OPAQUE
UID:6b063c490ff224e6d051f77fee55b172
DTSTART:20221012T200000
DTSTAMP:20221012T150135Z
SUMMARY:DEHD
DESCRIPTION:Upon arrival during the fraught summer of 2020, Flower of Devotion felt like DEHD's necessary prescription for us all. That was, of course, a moment of unprecedented anxiety and uncertainty, when just contemplating the future could seem overly optimistic. But DEHD captured and shared the precarious balance between real life and real hope, a feat mirrored by instant pop melodies and infectious punk energy. The Chicago trio had the audacity to look ahead when many of us didn't, to imagine improvement through mere existence. It was an album we needed. We need its follow-up, the triumphant Blue Skies, even more.
CREATED:20221012T150135Z
URL;VALUE=URI:http://holdmyticket.com/event/395138 

DTEND:20221012T233000
END:VEVENT
END:VCALENDAR