BEGIN:VCALENDAR
METHOD:PUBLISH
X-WR-TIMEZONE:America/Denver
PRODID:-//Hold My Ticket.//HMT Web App//EN
CALSCALE:GREGORIAN
METHOD:PUBLISH
X-WR-CALNAME:Santa Fe Plaza
X-WR-CALDESC:Upcoming events at Santa Fe Plaza
BEGIN:VTIMEZONE
TZID:America/Denver 
END:VTIMEZONE
BEGIN:VEVENT
SEQUENCE:2
TRANSP:OPAQUE
UID:642df25cf5d9a0951d80798b38fbd420
DTSTART:20220628T180000
DTSTAMP:20220628T130102Z
SUMMARY:Boomroots Collective
DESCRIPTION:The Boomroots Collective brings high level progressive Reggae and Hip Hop music, which has been described as "Jamaican funk with New Mexican Soul." The Collective is a community of artists bringing a unique mix of two genres for one reason: LOVE.
CREATED:20220628T130102Z
URL;VALUE=URI:http://holdmyticket.com/event/395147 

DTEND:20220628T220000
END:VEVENT
END:VCALENDAR