BEGIN:VCALENDAR
METHOD:PUBLISH
X-WR-TIMEZONE:America/Denver
PRODID:-//Hold My Ticket.//HMT Web App//EN
CALSCALE:GREGORIAN
METHOD:PUBLISH
X-WR-CALNAME:Santa Fe Plaza
X-WR-CALDESC:Upcoming events at Santa Fe Plaza
BEGIN:VTIMEZONE
TZID:America/Denver 
END:VTIMEZONE
BEGIN:VEVENT
SEQUENCE:2
TRANSP:OPAQUE
UID:c653840083c842ec50ccdfe001960e12
DTSTART:20220705T173000
DTSTAMP:20220705T130143Z
SUMMARY:Folk Art Market Artist Welcome with Son Como Son
DESCRIPTION:Founded in 1993, soon after band director and renowned trombonist, vocalist, percussionist, composer, and arranger César Bauvallet moved from Havana, Cuba to Albuquerque, Son Como Son performs Salsa Cuban Style. Playing regularly over the years to packed audiences comprising highly animated and dedicated salseros at the NM Jazz Workshop's Salsa Under the Stars Series, The Cooperage (which, sadly, was recently torn down!), and the Telluride Jazz Festival, Son Como Son features some of Albuquerque's most accomplished and busiest musicians, most of whom have been with the band for 27 years! 
CREATED:20220705T130143Z
URL;VALUE=URI:http://holdmyticket.com/event/395156 

DTEND:20220705T220000
END:VEVENT
END:VCALENDAR