BEGIN:VCALENDAR
METHOD:PUBLISH
X-WR-TIMEZONE:America/Denver
PRODID:-//Hold My Ticket.//HMT Web App//EN
CALSCALE:GREGORIAN
METHOD:PUBLISH
X-WR-CALNAME:Santa Fe Plaza
X-WR-CALDESC:Upcoming events at Santa Fe Plaza
BEGIN:VTIMEZONE
TZID:America/Denver 
END:VTIMEZONE
BEGIN:VEVENT
SEQUENCE:2
TRANSP:OPAQUE
UID:ea863497fdc8bda0d7ba9b3677b87bb9
DTSTART:20220802T180000
DTSTAMP:20220802T130156Z
SUMMARY:Nosotros
DESCRIPTION:Nosotros has been drawing music lovers to their distinctive Latin groove for over 20 years. What began as a guitar trio in 1994, quickly took on a life of its own, becoming something that no one could have predicted, including becoming one of the most recognizable and original Latin bands in the Southwest United States. The band's remarkable evolution over the years - taking on new members and leadership along the way - has resulted in the 11-piece Latin music powerhouse it is today. The group seamlessly combines a myriad of Latin rhythms with elements of rock, salsa, jazz and cumbia creating an innovative and imaginative Latin sound that is, unique, undefinable and unmistakably Nosotros.
CREATED:20220802T130156Z
URL;VALUE=URI:http://holdmyticket.com/event/395206 

DTEND:20220802T220000
END:VEVENT
END:VCALENDAR