BEGIN:VCALENDAR
METHOD:PUBLISH
X-WR-TIMEZONE:America/Denver
PRODID:-//Hold My Ticket.//HMT Web App//EN
CALSCALE:GREGORIAN
METHOD:PUBLISH
X-WR-CALNAME:Santa Fe Plaza
X-WR-CALDESC:Upcoming events at Santa Fe Plaza
BEGIN:VTIMEZONE
TZID:America/Denver 
END:VTIMEZONE
BEGIN:VEVENT
SEQUENCE:2
TRANSP:OPAQUE
UID:d6c81fae8db918e26152ca95ab1d29de
DTSTART:20220815T180000
DTSTAMP:20220815T130130Z
SUMMARY:Joe Tohonnie Jr. and the White Mountain Apache Crown Dancers
DESCRIPTION:Born and raised on the White Mountain Apache reservation in the Whiteriver community of North Central Arizona, Joe Tohonnie, Jr. draws inspiration for performing from his culture. His grandfather, Stacey Classey, was a medicine man who sang traditional Apache songs, while his father Joe Tohonnie Sr. shared traditional Navajo songs with him.
CREATED:20220815T130130Z
URL;VALUE=URI:http://holdmyticket.com/event/395723 

DTEND:20220815T220000
END:VEVENT
END:VCALENDAR