BEGIN:VCALENDAR
METHOD:PUBLISH
X-WR-TIMEZONE:America/Denver
PRODID:-//Hold My Ticket.//HMT Web App//EN
CALSCALE:GREGORIAN
METHOD:PUBLISH
X-WR-CALNAME:Santa Fe Plaza
X-WR-CALDESC:Upcoming events at Santa Fe Plaza
BEGIN:VTIMEZONE
TZID:America/Denver 
END:VTIMEZONE
BEGIN:VEVENT
SEQUENCE:2
TRANSP:OPAQUE
UID:965b0bdaab2edf5470cdf6a8c4db4205
DTSTART:20220822T180000
DTSTAMP:20220822T130131Z
SUMMARY:HOTH Brothers Band
DESCRIPTION:Boris McCutcheon and Bard Edrington V of Hoth Brothers began Workin' and Dreamin in the winter of 2017 while pruning fruit trees together. Music was the constant conversation that played to the rhythm of saws raking and pruners clipping in the apple orchards near the Chimayo sanctuary or the old plazas of Santa Fe. 
CREATED:20220822T130131Z
URL;VALUE=URI:http://holdmyticket.com/event/395729 

DTEND:20220822T220000
END:VEVENT
END:VCALENDAR