BEGIN:VCALENDAR
METHOD:PUBLISH
X-WR-TIMEZONE:America/Denver
PRODID:-//Hold My Ticket.//HMT Web App//EN
CALSCALE:GREGORIAN
METHOD:PUBLISH
X-WR-CALNAME:Santa Fe Plaza
X-WR-CALDESC:Upcoming events at Santa Fe Plaza
BEGIN:VTIMEZONE
TZID:America/Denver 
END:VTIMEZONE
BEGIN:VEVENT
SEQUENCE:2
TRANSP:OPAQUE
UID:de4e29c962ba2faedb13e0c6e16d3e45
DTSTART:20220830T180000
DTSTAMP:20220830T130131Z
SUMMARY:The Santa Fe Revue
DESCRIPTION:The Santa Fe Revue is a local supergroup featuring well-loved members Karina Wilson, Susan Holmes, Lori Ottino, Arne Bey and Ben Wright. The group plays a wide range of American music with an emphasis on big hearts and big smiles.
CREATED:20220830T130131Z
URL;VALUE=URI:http://holdmyticket.com/event/395735 

DTEND:20220830T220000
END:VEVENT
END:VCALENDAR