BEGIN:VCALENDAR
METHOD:PUBLISH
X-WR-TIMEZONE:America/Denver
PRODID:-//Hold My Ticket.//HMT Web App//EN
CALSCALE:GREGORIAN
METHOD:PUBLISH
X-WR-CALNAME:Sunshine Studios
X-WR-CALDESC:Upcoming events at Sunshine Studios
BEGIN:VTIMEZONE
TZID:America/Denver 
END:VTIMEZONE
BEGIN:VEVENT
SEQUENCE:2
TRANSP:OPAQUE
UID:c77ce923955aaa4ea952bb0a235f111a
DTSTART:20220826T180000
DTSTAMP:20220826T210343Z
SUMMARY:Tech N9ne &amp; Snow Tha Product
DESCRIPTION:Strong Survive and BKG Proudly Present:
Tech N9ne and Snow Tha Product Live at Sunshine Studios.
With Performances by : Jehry Robinson and more.

Rain or Shine
CREATED:20220826T210343Z
URL;VALUE=URI:http://holdmyticket.com/event/395793 

DTEND:20220826T234500
END:VEVENT
END:VCALENDAR