BEGIN:VCALENDAR
METHOD:PUBLISH
X-WR-TIMEZONE:America/Los_Angeles
PRODID:-//Hold My Ticket.//HMT Web App//EN
CALSCALE:GREGORIAN
METHOD:PUBLISH
X-WR-CALNAME:Humboldt Brews
X-WR-CALDESC:Upcoming events at Humboldt Brews
BEGIN:VTIMEZONE
TZID:America/Los_Angeles 
END:VTIMEZONE
BEGIN:VEVENT
SEQUENCE:2
TRANSP:OPAQUE
UID:e0f094746dac5195e40a92278a72e75f
DTSTART:20221118T200000
DTSTAMP:20221118T160148Z
SUMMARY:Dar Williams
DESCRIPTION:

Dar Williams was always in the right place at the right time for the success she's had over a 25+-year career. She rose out of the vibrant mid-90's Boston scene, inspired by the eclectic influences of alt-rockers, Berklee jazz musicians, slam poets, and folk artists, like Patty Griffith, Melissa Ferrick, the Throwing Muses, Vance Gilbert, and Jonatha Brooke.

After a year of touring non-stop with her first album, The Honesty Room, in 1994, she was invited by Joan Baez to tour in Europe and The United States. Meanwhile, thanks to her avid supporters and 100,000+ sales for each new album, Dar's literate but highly-listenable songs were showing up everywhere from commercial radio to college reading lists.

By 1997, she was on main stages throughout North America, including Lilith Fair, Newport Folk Festival, Bumbershoot, Carnegie Hall and Canadian festivals from Vancouver to Nova Scotia. At the turn of millennium, Dar took the opportunity to branch out further. Aside from her eleven studio albums to date, she has written two highly acclaimed young adult novels for Scholastic Inc., written a green blog for Huffington Post, taught a popular course about music and social movements at Wesleyan University, and written What I Found in a Thousand Towns, a book about social-capital based urban planning, based on her extensive touring observations, for Hachette Publishing Group.

Over the last eight years she has also led a well-loved songwriting retreat, Writing a Song that Matters, guiding the creative process as both a seasoned songwriter and a kindred spirit to all who attend.

She is excited to be returning to the road with a new album titled "I'll Meet You Here" to be release by Renew/BMG in the fall of 2021

CREATED:20221118T160148Z
URL;VALUE=URI:http://holdmyticket.com/event/396356 

DTEND:20221118T233000
END:VEVENT
END:VCALENDAR