BEGIN:VCALENDAR
METHOD:PUBLISH
X-WR-TIMEZONE:America/Denver
PRODID:-//Hold My Ticket.//HMT Web App//EN
CALSCALE:GREGORIAN
METHOD:PUBLISH
X-WR-CALNAME:Alma Town Park
X-WR-CALDESC:Upcoming events at Alma Town Park
BEGIN:VTIMEZONE
TZID:America/Denver 
END:VTIMEZONE
BEGIN:VEVENT
SEQUENCE:2
TRANSP:OPAQUE
UID:0e3763bcb0b0ba53f62aaf75d18f1daa
DTSTART:20220812T140000
DTSTAMP:20220812T090137Z
SUMMARY:ELEVATION MUSIC FESTIVAL
DESCRIPTION:Elevation Music Festival is the highest music festival in the world at 10,500 feet and set in the charming Alma Town Park in Alma, CO.  
CREATED:20220812T090137Z
URL;VALUE=URI:http://holdmyticket.com/event/397319 

DTEND:20220813T234500
END:VEVENT
END:VCALENDAR