BEGIN:VCALENDAR
METHOD:PUBLISH
X-WR-TIMEZONE:Europe/London
PRODID:-//Hold My Ticket.//HMT Web App//EN
CALSCALE:GREGORIAN
METHOD:PUBLISH
X-WR-CALNAME:Entertainers Worldwide
X-WR-CALDESC:Upcoming events at Entertainers Worldwide
BEGIN:VTIMEZONE
TZID:Europe/London 
END:VTIMEZONE
BEGIN:VEVENT
SEQUENCE:2
TRANSP:OPAQUE
UID:e0884ccf69ca971e44431e4334505b97
DTSTART:20220708T093000
DTSTAMP:20220708T050139Z
SUMMARY:Entertainers Worlwide
DESCRIPTION:We are looking to find experienced entertainers to join us to meet the growing demand for wedding bookings:

CREATED:20220708T050139Z
URL;VALUE=URI:http://holdmyticket.com/event/397646 

DTEND:20220708T220000
END:VEVENT
END:VCALENDAR