BEGIN:VCALENDAR
METHOD:PUBLISH
X-WR-TIMEZONE:America/Denver
PRODID:-//Hold My Ticket.//HMT Web App//EN
CALSCALE:GREGORIAN
METHOD:PUBLISH
X-WR-CALNAME:The Oriental Theater
X-WR-CALDESC:Upcoming events at The Oriental Theater
BEGIN:VTIMEZONE
TZID:America/Denver 
END:VTIMEZONE
BEGIN:VEVENT
SEQUENCE:2
TRANSP:OPAQUE
UID:a27c27d61b79ce87da7b2d3a80872bd3
DTSTART:20220918T200000
DTSTAMP:20220918T150201Z
SUMMARY: Bob Mould Solo Electric: Distortion and Blue Hearts!
DESCRIPTION:
CREATED:20220918T150201Z
URL;VALUE=URI:http://holdmyticket.com/event/397730 

DTEND:20220918T230000
END:VEVENT
END:VCALENDAR