BEGIN:VCALENDAR
METHOD:PUBLISH
X-WR-TIMEZONE:America/Denver
PRODID:-//Hold My Ticket.//HMT Web App//EN
CALSCALE:GREGORIAN
METHOD:PUBLISH
X-WR-CALNAME:Balloon Fiesta Park
X-WR-CALDESC:Upcoming events at Balloon Fiesta Park
BEGIN:VTIMEZONE
TZID:America/Denver 
END:VTIMEZONE
BEGIN:VEVENT
SEQUENCE:2
TRANSP:OPAQUE
UID:e1db795d761ec0b870219e52102377f7
DTSTART:20220903T110000
DTSTAMP:20220903T060109Z
SUMMARY:2022 Harvest Wine Festival in Albuquerque
DESCRIPTION:
CREATED:20220903T060109Z
URL;VALUE=URI:http://holdmyticket.com/event/397821 

DTEND:20220905T180000
END:VEVENT
END:VCALENDAR