BEGIN:VCALENDAR
METHOD:PUBLISH
X-WR-TIMEZONE:America/Denver
PRODID:-//Hold My Ticket.//HMT Web App//EN
CALSCALE:GREGORIAN
METHOD:PUBLISH
X-WR-CALNAME:The Lensic
X-WR-CALDESC:Upcoming events at The Lensic
BEGIN:VTIMEZONE
TZID:America/Denver 
END:VTIMEZONE
BEGIN:VEVENT
SEQUENCE:2
TRANSP:OPAQUE
UID:602fa64c2fd8bae0e493ca30611fe55f
DTSTART:20221207T190000
DTSTAMP:20221207T150148Z
SUMMARY:The Mavericks' Very Merry Christmas Tour  - SOLD OUT 
DESCRIPTION:Grammy Award-winning band The Mavericks are pleased to present the 2022 edition of their Very Merry Christmas Tour, featuring super special guest JD McPherson! Featuring selections from their 2018 holiday album Hey! Merry Christmas!, alongside the classics and favorites of their acclaimed 30-year career, don't miss music's most genre-defying band as they revisit their own special twist on the holidays.
CREATED:20221207T150148Z
URL;VALUE=URI:http://holdmyticket.com/event/398188 

DTEND:20221207T220000
END:VEVENT
END:VCALENDAR