BEGIN:VCALENDAR
METHOD:PUBLISH
X-WR-TIMEZONE:America/Denver
PRODID:-//Hold My Ticket.//HMT Web App//EN
CALSCALE:GREGORIAN
METHOD:PUBLISH
X-WR-CALNAME:Launchpad
X-WR-CALDESC:Upcoming events at Launchpad
BEGIN:VTIMEZONE
TZID:America/Denver 
END:VTIMEZONE
BEGIN:VEVENT
SEQUENCE:2
TRANSP:OPAQUE
UID:70ed239376a4c25301a0b284c9368ac3
DTSTART:20230515T200000
DTSTAMP:20230515T222651Z
SUMMARY:My Life with The Thrill Kill Kult - Evil Eye Tour 87-97
DESCRIPTION:* My Life With The Thrill Kill Kult * ADULT. * Kanga *
Evil Eye Tour 87-97
***EARLY SHOW***

Monday, May 15, 2023
Doors 7pm | Show 8pm
Launchpad
ABQ NM
21+
Advance tickets - $20 + service charge

This all-hits banger EVIL EYE 87-97 TOUR will be TKK performing specifically the jams from 1987-1997, from the classic albums Confessions of a Knife, I See Good Spirits, Sexplosion, 13 Above The Night, and Hit &amp; Run Holiday!
CREATED:20230515T222651Z
URL;VALUE=URI:http://holdmyticket.com/event/398221 

DTEND:20230515T230000
END:VEVENT
END:VCALENDAR