BEGIN:VCALENDAR
METHOD:PUBLISH
X-WR-TIMEZONE:America/Denver
PRODID:-//Hold My Ticket.//HMT Web App//EN
CALSCALE:GREGORIAN
METHOD:PUBLISH
X-WR-CALNAME:Buffalo Rose
X-WR-CALDESC:Upcoming events at Buffalo Rose
BEGIN:VTIMEZONE
TZID:America/Denver 
END:VTIMEZONE
BEGIN:VEVENT
SEQUENCE:2
TRANSP:OPAQUE
UID:98555520914d8f70825b18e460b833dd
DTSTART:20220809T200000
DTSTAMP:20220809T150121Z
SUMMARY:Wildland Firefighters Benefit
DESCRIPTION:Coors Banquet Presents A Benefit Show for the Wildland Firefighter Foundation, featuring LOCASH, August 9th at Buffalo Rose in Golden. General Admission Standing Room tickets start at $25 and reserved tables for four are available for $200, space is limited and you don't want to miss this one.
CREATED:20220809T150121Z
URL;VALUE=URI:http://holdmyticket.com/event/398315 

DTEND:20220809T230000
END:VEVENT
END:VCALENDAR