BEGIN:VCALENDAR
METHOD:PUBLISH
X-WR-TIMEZONE:America/Denver
PRODID:-//Hold My Ticket.//HMT Web App//EN
CALSCALE:GREGORIAN
METHOD:PUBLISH
X-WR-CALNAME:HQ
X-WR-CALDESC:Upcoming events at HQ
BEGIN:VTIMEZONE
TZID:America/Denver 
END:VTIMEZONE
BEGIN:VEVENT
SEQUENCE:2
TRANSP:OPAQUE
UID:41a4c8088c2463653b78071f4130fb84
DTSTART:20220827T180000
DTSTAMP:20220827T130119Z
SUMMARY:Vein.FM
DESCRIPTION:
CREATED:20220827T130119Z
URL;VALUE=URI:http://holdmyticket.com/event/398370 

DTEND:20220827T210000
END:VEVENT
END:VCALENDAR