BEGIN:VCALENDAR
METHOD:PUBLISH
X-WR-TIMEZONE:America/Denver
PRODID:-//Hold My Ticket.//HMT Web App//EN
CALSCALE:GREGORIAN
METHOD:PUBLISH
X-WR-CALNAME:Meow Wolf
X-WR-CALDESC:Upcoming events at Meow Wolf
BEGIN:VTIMEZONE
TZID:America/Denver 
END:VTIMEZONE
BEGIN:VEVENT
SEQUENCE:2
TRANSP:OPAQUE
UID:d5e47b70a0a9d82adde3783247964d68
DTSTART:20221102T200000
DTSTAMP:20221102T150130Z
SUMMARY:Lucius
DESCRIPTION:Every Lucius song begins with what Holly Laessig calls "coffee talks," in which she and Jess Wolfe share what's on their minds--and in the spring of 2020, they had a lot to discuss. Since 2007, Laessig and Wolfe have written this way, learning each other's stories by heart before weaving them into the lyrics and chord progressions of their inventive indie-pop anthems. Onstage, they're two identically-dressed and coiffed halves of the same whole, the mirror image of each other at the microphone; off-stage, they step into their respective lives--separate, but close--as chosen family.
CREATED:20221102T150130Z
URL;VALUE=URI:http://holdmyticket.com/event/398515 

DTEND:20221102T230000
END:VEVENT
END:VCALENDAR