BEGIN:VCALENDAR
METHOD:PUBLISH
X-WR-TIMEZONE:America/Los_Angeles
PRODID:-//Hold My Ticket.//HMT Web App//EN
CALSCALE:GREGORIAN
METHOD:PUBLISH
X-WR-CALNAME:Winstons
X-WR-CALDESC:Upcoming events at Winstons
BEGIN:VTIMEZONE
TZID:America/Los_Angeles 
END:VTIMEZONE
BEGIN:VEVENT
SEQUENCE:2
TRANSP:OPAQUE
UID:a2c58c9c5a18119d76e64c91e9a26348
DTSTART:20220827T210000
DTSTAMP:20220827T213841Z
SUMMARY:Drug Hunt and AJ Froman
DESCRIPTION:
CREATED:20220827T213841Z
URL;VALUE=URI:http://holdmyticket.com/event/398649 

DTEND:20220828T000000
END:VEVENT
END:VCALENDAR