BEGIN:VCALENDAR
METHOD:PUBLISH
X-WR-TIMEZONE:America/Denver
PRODID:-//Hold My Ticket.//HMT Web App//EN
CALSCALE:GREGORIAN
METHOD:PUBLISH
X-WR-CALNAME:The Oriental Theater
X-WR-CALDESC:Upcoming events at The Oriental Theater
BEGIN:VTIMEZONE
TZID:America/Denver 
END:VTIMEZONE
BEGIN:VEVENT
SEQUENCE:2
TRANSP:OPAQUE
UID:560a9c144c6d62941a8460c0c107a3a6
DTSTART:20221014T200000
DTSTAMP:20221014T150114Z
SUMMARY:Carnivale De Sensuale: 10 Year Anniversary Shows
DESCRIPTION:
CREATED:20221014T150114Z
URL;VALUE=URI:http://holdmyticket.com/event/399501 

DTEND:20221014T230000
END:VEVENT
END:VCALENDAR