BEGIN:VCALENDAR
METHOD:PUBLISH
X-WR-TIMEZONE:America/Los_Angeles
PRODID:-//Hold My Ticket.//HMT Web App//EN
CALSCALE:GREGORIAN
METHOD:PUBLISH
X-WR-CALNAME:High Water Mark
X-WR-CALDESC:Upcoming events at High Water Mark
BEGIN:VTIMEZONE
TZID:America/Los_Angeles 
END:VTIMEZONE
BEGIN:VEVENT
SEQUENCE:2
TRANSP:OPAQUE
UID:66ee274b12e8d0df22106e261aa8ae54
DTSTART:20230507T203000
DTSTAMP:20230507T160136Z
SUMMARY:HARAKIRI FOR THE SKY,
DESCRIPTION:21+ / $17 ADV - $20 DOS / 8PM
CREATED:20230507T160136Z
URL;VALUE=URI:http://holdmyticket.com/event/399928 

DTEND:20230507T234500
END:VEVENT
END:VCALENDAR