BEGIN:VCALENDAR
METHOD:PUBLISH
X-WR-TIMEZONE:America/Denver
PRODID:-//Hold My Ticket.//HMT Web App//EN
CALSCALE:GREGORIAN
METHOD:PUBLISH
X-WR-CALNAME:Launchpad
X-WR-CALDESC:Upcoming events at Launchpad
BEGIN:VTIMEZONE
TZID:America/Denver 
END:VTIMEZONE
BEGIN:VEVENT
SEQUENCE:2
TRANSP:OPAQUE
UID:bfd997056ec7a9b2283f3e353129488c
DTSTART:20221007T213000
DTSTAMP:20221007T170138Z
SUMMARY:Night of the Living Cover Bands - All Nights
DESCRIPTION:
CREATED:20221007T170138Z
URL;VALUE=URI:http://holdmyticket.com/event/399936 

DTEND:20221031T003000
END:VEVENT
END:VCALENDAR