BEGIN:VCALENDAR
METHOD:PUBLISH
X-WR-TIMEZONE:America/Denver
PRODID:-//Hold My Ticket.//HMT Web App//EN
CALSCALE:GREGORIAN
METHOD:PUBLISH
X-WR-CALNAME:The Roxy Theatre
X-WR-CALDESC:Upcoming events at The Roxy Theatre
BEGIN:VTIMEZONE
TZID:America/Denver 
END:VTIMEZONE
BEGIN:VEVENT
SEQUENCE:2
TRANSP:OPAQUE
UID:a2a585b2f768b5abdc4dd599e88980f5
DTSTART:20230512T183000
DTSTAMP:20230512T140156Z
SUMMARY:Harakiri For The Sky
DESCRIPTION:Strong Survive &amp; SNP Proudly Present 
Harakiri For The Sky Live in Denver.

CREATED:20230512T140156Z
URL;VALUE=URI:http://holdmyticket.com/event/400044 

DTEND:20230512T233000
END:VEVENT
END:VCALENDAR