BEGIN:VCALENDAR
METHOD:PUBLISH
X-WR-TIMEZONE:America/Denver
PRODID:-//Hold My Ticket.//HMT Web App//EN
CALSCALE:GREGORIAN
METHOD:PUBLISH
X-WR-CALNAME:The Gem
X-WR-CALDESC:Upcoming events at The Gem
BEGIN:VTIMEZONE
TZID:America/Denver 
END:VTIMEZONE
BEGIN:VEVENT
SEQUENCE:2
TRANSP:OPAQUE
UID:5ccb08b4f64c0d2bbbeb341a343dcf47
DTSTART:20221119T190000
DTSTAMP:20221119T150154Z
SUMMARY:Adam Calhoun
DESCRIPTION:Strong Survive &amp; Extrinsic Proudly Present:
The Country Rrap Tour
Featuring: Adam Calhoun, Demun Jones, Brodnax &amp; Dusty Leigh 
CREATED:20221119T150154Z
URL;VALUE=URI:http://holdmyticket.com/event/400072 

DTEND:20221119T234500
END:VEVENT
END:VCALENDAR