BEGIN:VCALENDAR
METHOD:PUBLISH
X-WR-TIMEZONE:America/New_York
PRODID:-//Hold My Ticket.//HMT Web App//EN
CALSCALE:GREGORIAN
METHOD:PUBLISH
X-WR-CALNAME:Terra Fermata
X-WR-CALDESC:Upcoming events at Terra Fermata
BEGIN:VTIMEZONE
TZID:America/New_York 
END:VTIMEZONE
BEGIN:VEVENT
SEQUENCE:2
TRANSP:OPAQUE
UID:2d93113b843fb6d8ae5d11f5a73813e9
DTSTART:20221125T190000
DTSTAMP:20221125T150137Z
SUMMARY:THE DARK SIDE OF THE SOL
DESCRIPTION:The Ultimate Tribute to Pink Floyd - $5 Admission
CREATED:20221125T150137Z
URL;VALUE=URI:http://holdmyticket.com/event/400166 

DTEND:20221125T220000
END:VEVENT
END:VCALENDAR