BEGIN:VCALENDAR
METHOD:PUBLISH
X-WR-TIMEZONE:America/Denver
PRODID:-//Hold My Ticket.//HMT Web App//EN
CALSCALE:GREGORIAN
METHOD:PUBLISH
X-WR-CALNAME:Tumbleroot Brewery & Distillery
X-WR-CALDESC:Upcoming events at Tumbleroot Brewery & Distillery
BEGIN:VTIMEZONE
TZID:America/Denver 
END:VTIMEZONE
BEGIN:VEVENT
SEQUENCE:2
TRANSP:OPAQUE
UID:2bfb8a8b77f3f37766e4b6dee0f34d95
DTSTART:20221115T193000
DTSTAMP:20221115T160122Z
SUMMARY:The White Buffalo 
DESCRIPTION:The White Buffalo is Jake Smith--singer, songwriter, guitarist, teller of stories, Emmy nominee; an artist whose voice--a timber-shakin' baritone of gravitas and gravel--seems directly linked to a greater truth; an artist who will not be swayed by fashion or curtailed by genre.
CREATED:20221115T160122Z
URL;VALUE=URI:http://holdmyticket.com/event/400227 

DTEND:20221115T233000
END:VEVENT
END:VCALENDAR