BEGIN:VCALENDAR
METHOD:PUBLISH
X-WR-TIMEZONE:America/Denver
PRODID:-//Hold My Ticket.//HMT Web App//EN
CALSCALE:GREGORIAN
METHOD:PUBLISH
X-WR-CALNAME:The Gem
X-WR-CALDESC:Upcoming events at The Gem
BEGIN:VTIMEZONE
TZID:America/Denver 
END:VTIMEZONE
BEGIN:VEVENT
SEQUENCE:2
TRANSP:OPAQUE
UID:e5b9369e19ef2743a036db64ff7d2673
DTSTART:20221021T190000
DTSTAMP:20221021T175535Z
SUMMARY:The Waiting 
DESCRIPTION:Strong Survive &amp; Extrinsic Proudly Present:
The Waiting 
All Ages

CREATED:20221021T175535Z
URL;VALUE=URI:http://holdmyticket.com/event/400316 

DTEND:20221021T234500
END:VEVENT
END:VCALENDAR