BEGIN:VCALENDAR
METHOD:PUBLISH
X-WR-TIMEZONE:America/New_York
PRODID:-//Hold My Ticket.//HMT Web App//EN
CALSCALE:GREGORIAN
METHOD:PUBLISH
X-WR-CALNAME:Thirsty Cowboy
X-WR-CALDESC:Upcoming events at Thirsty Cowboy
BEGIN:VTIMEZONE
TZID:America/New_York 
END:VTIMEZONE
BEGIN:VEVENT
SEQUENCE:2
TRANSP:OPAQUE
UID:e6b6ee16450649fbc607f57989318ff4
DTSTART:20221216T213000
DTSTAMP:20221216T180155Z
SUMMARY:FRIDAY NIGHT DJ - NO COVER
DESCRIPTION:DOORS OPEN AT 3PM FOR FOOD &amp; DRINKS
DJ STARTS AT 7:00PM
NO COVER/21+ OVER
CREATED:20221216T180155Z
URL;VALUE=URI:http://holdmyticket.com/event/400415 

DTEND:20221217T013000
END:VEVENT
END:VCALENDAR