BEGIN:VCALENDAR
METHOD:PUBLISH
X-WR-TIMEZONE:America/New_York
PRODID:-//Hold My Ticket.//HMT Web App//EN
CALSCALE:GREGORIAN
METHOD:PUBLISH
X-WR-CALNAME:Thirsty Cowboy
X-WR-CALDESC:Upcoming events at Thirsty Cowboy
BEGIN:VTIMEZONE
TZID:America/New_York 
END:VTIMEZONE
BEGIN:VEVENT
SEQUENCE:2
TRANSP:OPAQUE
UID:721e6d5f4780b565cf08571eeb64fb8e
DTSTART:20221020T193000
DTSTAMP:20221020T150132Z
SUMMARY:THURSDAY NIGHT TRIVIA
DESCRIPTION:
CREATED:20221020T150132Z
URL;VALUE=URI:http://holdmyticket.com/event/400430 

DTEND:20221021T013000
END:VEVENT
END:VCALENDAR