BEGIN:VCALENDAR
METHOD:PUBLISH
X-WR-TIMEZONE:America/New_York
PRODID:-//Hold My Ticket.//HMT Web App//EN
CALSCALE:GREGORIAN
METHOD:PUBLISH
X-WR-CALNAME:Thirsty Cowboy
X-WR-CALDESC:Upcoming events at Thirsty Cowboy
BEGIN:VTIMEZONE
TZID:America/New_York 
END:VTIMEZONE
BEGIN:VEVENT
SEQUENCE:2
TRANSP:OPAQUE
UID:cd2f93bca9e5569ad61e0a26cd4a23f0
DTSTART:20221215T193000
DTSTAMP:20221215T160104Z
SUMMARY:THURSDAY NIGHT TRIVIA
DESCRIPTION:
CREATED:20221215T160104Z
URL;VALUE=URI:http://holdmyticket.com/event/400438 

DTEND:20221216T013000
END:VEVENT
END:VCALENDAR