BEGIN:VCALENDAR
METHOD:PUBLISH
X-WR-TIMEZONE:America/Denver
PRODID:-//Hold My Ticket.//HMT Web App//EN
CALSCALE:GREGORIAN
METHOD:PUBLISH
X-WR-CALNAME:Taos Center for the Arts
X-WR-CALDESC:Upcoming events at Taos Center for the Arts
BEGIN:VTIMEZONE
TZID:America/Denver 
END:VTIMEZONE
BEGIN:VEVENT
SEQUENCE:2
TRANSP:OPAQUE
UID:1a0106d5820db0218b6ebe4a2f219ede
DTSTART:20221117T193000
DTSTAMP:20221117T180945Z
SUMMARY:Leo Kottke - SOLD OUT 
DESCRIPTION:Acoustic guitarist Leo Kottke was born in Athens, Georgia, but left town after a year and a half. Raised in 12 different states, he absorbed a variety of musical influences as a child, flirting with both violin and trombone, before abandoning Stravinsky for the guitar at age 11.
CREATED:20221117T180945Z
URL;VALUE=URI:http://holdmyticket.com/event/400521 

DTEND:20221117T220000
END:VEVENT
END:VCALENDAR