BEGIN:VCALENDAR
METHOD:PUBLISH
X-WR-TIMEZONE:America/Los_Angeles
PRODID:-//Hold My Ticket.//HMT Web App//EN
CALSCALE:GREGORIAN
METHOD:PUBLISH
X-WR-CALNAME:Winstons
X-WR-CALDESC:Upcoming events at Winstons
BEGIN:VTIMEZONE
TZID:America/Los_Angeles 
END:VTIMEZONE
BEGIN:VEVENT
SEQUENCE:2
TRANSP:OPAQUE
UID:5dbfb8f67b55b7da926ea2e4f6faa2f6
DTSTART:20221103T210000
DTSTAMP:20221103T160159Z
SUMMARY:Jonathan Scales Fourchestra
DESCRIPTION:
CREATED:20221103T160159Z
URL;VALUE=URI:http://holdmyticket.com/event/402677 

DTEND:20221104T000000
END:VEVENT
END:VCALENDAR