BEGIN:VCALENDAR
METHOD:PUBLISH
X-WR-TIMEZONE:America/Denver
PRODID:-//Hold My Ticket.//HMT Web App//EN
CALSCALE:GREGORIAN
METHOD:PUBLISH
X-WR-CALNAME:The Oriental Theater
X-WR-CALDESC:Upcoming events at The Oriental Theater
BEGIN:VTIMEZONE
TZID:America/Denver 
END:VTIMEZONE
BEGIN:VEVENT
SEQUENCE:2
TRANSP:OPAQUE
UID:98b13ffe2e1ead9d358f6ed1cc10f5aa
DTSTART:20221202T200000
DTSTAMP:20221202T160151Z
SUMMARY:Cold Cave 
DESCRIPTION:
CREATED:20221202T160151Z
URL;VALUE=URI:http://holdmyticket.com/event/402687 

DTEND:20221202T230000
END:VEVENT
END:VCALENDAR