BEGIN:VCALENDAR
METHOD:PUBLISH
X-WR-TIMEZONE:America/Denver
PRODID:-//Hold My Ticket.//HMT Web App//EN
CALSCALE:GREGORIAN
METHOD:PUBLISH
X-WR-CALNAME:Launchpad
X-WR-CALDESC:Upcoming events at Launchpad
BEGIN:VTIMEZONE
TZID:America/Denver 
END:VTIMEZONE
BEGIN:VEVENT
SEQUENCE:2
TRANSP:OPAQUE
UID:3b83d945def7520f46b881b30cd0fdb0
DTSTART:20230523T200000
DTSTAMP:20230523T223150Z
SUMMARY:The Slackers * The Freecoasters * Made In Bangladesh * DJ RIFF RAT - Ska Edition
DESCRIPTION:* The Slackers * The Freecoasters * Made In Bangladesh * DJ RIFF RAT - Ska Edition * 

Tuesday, May 23, 2023
Doors 8pm | Show 9pm
Launchpad
ABQ NM
21+
Advance tickets - $20 + service charge
https://www.facebook.com/events/680005440263679
CREATED:20230523T223150Z
URL;VALUE=URI:http://holdmyticket.com/event/402804 

DTEND:20230523T230000
END:VEVENT
END:VCALENDAR