BEGIN:VCALENDAR
METHOD:PUBLISH
X-WR-TIMEZONE:America/Denver
PRODID:-//Hold My Ticket.//HMT Web App//EN
CALSCALE:GREGORIAN
METHOD:PUBLISH
X-WR-CALNAME:The Colonel
X-WR-CALDESC:Upcoming events at The Colonel
BEGIN:VTIMEZONE
TZID:America/Denver 
END:VTIMEZONE
BEGIN:VEVENT
SEQUENCE:2
TRANSP:OPAQUE
UID:71410fe1e0945e47e1b909e082066407
DTSTART:20221210T200000
DTSTAMP:20221210T160114Z
SUMMARY:Chez Live in Cody
DESCRIPTION:
CREATED:20221210T160114Z
URL;VALUE=URI:http://holdmyticket.com/event/403026 

DTEND:20221210T220000
END:VEVENT
END:VCALENDAR