BEGIN:VCALENDAR
METHOD:PUBLISH
X-WR-TIMEZONE:America/Los_Angeles
PRODID:-//Hold My Ticket.//HMT Web App//EN
CALSCALE:GREGORIAN
METHOD:PUBLISH
X-WR-CALNAME:Winstons
X-WR-CALDESC:Upcoming events at Winstons
BEGIN:VTIMEZONE
TZID:America/Los_Angeles 
END:VTIMEZONE
BEGIN:VEVENT
SEQUENCE:2
TRANSP:OPAQUE
UID:30f8938adb01f817f6132d77ef0a2717
DTSTART:20221104T210000
DTSTAMP:20221104T194820Z
SUMMARY:Shira Elias
DESCRIPTION:
CREATED:20221104T194820Z
URL;VALUE=URI:http://holdmyticket.com/event/403112 

DTEND:20221105T000000
END:VEVENT
END:VCALENDAR