BEGIN:VCALENDAR
METHOD:PUBLISH
X-WR-TIMEZONE:America/Denver
PRODID:-//Hold My Ticket.//HMT Web App//EN
CALSCALE:GREGORIAN
METHOD:PUBLISH
X-WR-CALNAME:Sunshine Theater
X-WR-CALDESC:Upcoming events at Sunshine Theater
BEGIN:VTIMEZONE
TZID:America/Denver 
END:VTIMEZONE
BEGIN:VEVENT
SEQUENCE:2
TRANSP:OPAQUE
UID:cc866cb50c25ccceb12d5ff822f6b509
DTSTART:20230421T193000
DTSTAMP:20230421T213507Z
SUMMARY:Real Friends * Knuckle Puck 
DESCRIPTION:* Real Friends * Knuckle Puck * Between You &amp; Me *

Friday, April 21, 2023
Doors 630pm | Show 730pm
Sunshine Theater
ABQ NM
all ages
Advance tickets - $22 + service charge

Spotify Presale: Tuesday, December 6 @ 12pm EST
Artist Presale: Thursday, December 8 @ 12pm EST
Public On Sale: Friday December 9 @ 12pm EST
https://www.facebook.com/events/671420641168843

CREATED:20230421T213507Z
URL;VALUE=URI:http://holdmyticket.com/event/403188 

DTEND:20230421T230000
END:VEVENT
END:VCALENDAR