BEGIN:VCALENDAR
METHOD:PUBLISH
X-WR-TIMEZONE:America/Denver
PRODID:-//Hold My Ticket.//HMT Web App//EN
CALSCALE:GREGORIAN
METHOD:PUBLISH
X-WR-CALNAME:Monks Bar
X-WR-CALDESC:Upcoming events at Monks Bar
BEGIN:VTIMEZONE
TZID:America/Denver 
END:VTIMEZONE
BEGIN:VEVENT
SEQUENCE:2
TRANSP:OPAQUE
UID:a1ae2113f779910a71e3034381619d86
DTSTART:20230311T190000
DTSTAMP:20230311T150116Z
SUMMARY:Token
DESCRIPTION:Strong Survive &amp; Extrinsic Proudly Present \
Token Live in Missoula 

21+
CREATED:20230311T150116Z
URL;VALUE=URI:http://holdmyticket.com/event/403275 

DTEND:20230312T000000
END:VEVENT
END:VCALENDAR