BEGIN:VCALENDAR
METHOD:PUBLISH
X-WR-TIMEZONE:America/Los_Angeles
PRODID:-//Hold My Ticket.//HMT Web App//EN
CALSCALE:GREGORIAN
METHOD:PUBLISH
X-WR-CALNAME:Nectar Lounge
X-WR-CALDESC:Upcoming events at Nectar Lounge
BEGIN:VTIMEZONE
TZID:America/Los_Angeles 
END:VTIMEZONE
BEGIN:VEVENT
SEQUENCE:2
TRANSP:OPAQUE
UID:239df4fe0f8e29551e5dad2f2f35f042
DTSTART:20230315T190000
DTSTAMP:20230315T140107Z
SUMMARY:Token
DESCRIPTION:Strong Survive Proudly Prresents 
Token Live in Seattle

All Ages 
CREATED:20230315T140107Z
URL;VALUE=URI:http://holdmyticket.com/event/403276 

DTEND:20230315T234500
END:VEVENT
END:VCALENDAR