BEGIN:VCALENDAR
METHOD:PUBLISH
X-WR-TIMEZONE:America/Denver
PRODID:-//Hold My Ticket.//HMT Web App//EN
CALSCALE:GREGORIAN
METHOD:PUBLISH
X-WR-CALNAME:Isleta Resort & Casino - The Showroom
X-WR-CALDESC:Upcoming events at Isleta Resort & Casino - The Showroom
BEGIN:VTIMEZONE
TZID:America/Denver 
END:VTIMEZONE
BEGIN:VEVENT
SEQUENCE:2
TRANSP:OPAQUE
UID:de4db72268261fe0e4facd1272cb8e31
DTSTART:20221209T200000
DTSTAMP:20221209T160157Z
SUMMARY:THE GARTH GUY
DESCRIPTION:
CREATED:20221209T160157Z
URL;VALUE=URI:http://holdmyticket.com/event/403672 

DTEND:20221209T213000
END:VEVENT
END:VCALENDAR