BEGIN:VCALENDAR
METHOD:PUBLISH
X-WR-TIMEZONE:America/Los_Angeles
PRODID:-//Hold My Ticket.//HMT Web App//EN
CALSCALE:GREGORIAN
METHOD:PUBLISH
X-WR-CALNAME:Star Theater
X-WR-CALDESC:Upcoming events at Star Theater
BEGIN:VTIMEZONE
TZID:America/Los_Angeles 
END:VTIMEZONE
BEGIN:VEVENT
SEQUENCE:2
TRANSP:OPAQUE
UID:366ca800dfae158a29428dbb0a42ab79
DTSTART:20221217T203000
DTSTAMP:20221217T170135Z
SUMMARY:THE FALL OF TROY - 15 YEARS OF 'MANIPULATOR' (playing album in full)
DESCRIPTION:21+ / $26 ADV - $28 DOS / 8PM DOORS
CREATED:20221217T170135Z
URL;VALUE=URI:http://holdmyticket.com/event/403736 

DTEND:20221218T233000
END:VEVENT
END:VCALENDAR