BEGIN:VCALENDAR
METHOD:PUBLISH
X-WR-TIMEZONE:America/New_York
PRODID:-//Hold My Ticket.//HMT Web App//EN
CALSCALE:GREGORIAN
METHOD:PUBLISH
X-WR-CALNAME:River Street Jazz Cafe
X-WR-CALDESC:Upcoming events at River Street Jazz Cafe
BEGIN:VTIMEZONE
TZID:America/New_York 
END:VTIMEZONE
BEGIN:VEVENT
SEQUENCE:2
TRANSP:OPAQUE
UID:4ce54025bcad897c11b13878b51c63e0
DTSTART:20230127T210000
DTSTAMP:20230127T170157Z
SUMMARY:Greg Kondrat Project with members of The Village Idiots
DESCRIPTION:
CREATED:20230127T170157Z
URL;VALUE=URI:http://holdmyticket.com/event/404258 

DTEND:20230128T010000
END:VEVENT
END:VCALENDAR