BEGIN:VCALENDAR
METHOD:PUBLISH
X-WR-TIMEZONE:America/Denver
PRODID:-//Hold My Ticket.//HMT Web App//EN
CALSCALE:GREGORIAN
METHOD:PUBLISH
X-WR-CALNAME:Buffalo Rose
X-WR-CALDESC:Upcoming events at Buffalo Rose
BEGIN:VTIMEZONE
TZID:America/Denver 
END:VTIMEZONE
BEGIN:VEVENT
SEQUENCE:2
TRANSP:OPAQUE
UID:97125d26b262a72e5ae4f213afd48f0d
DTSTART:20230324T190000
DTSTAMP:20230324T140116Z
SUMMARY:Dolls In The Attic ~ Aerosmith Tribute
DESCRIPTION:
CREATED:20230324T140116Z
URL;VALUE=URI:http://holdmyticket.com/event/404306 

DTEND:20230324T230000
END:VEVENT
END:VCALENDAR