BEGIN:VCALENDAR
METHOD:PUBLISH
X-WR-TIMEZONE:America/Denver
PRODID:-//Hold My Ticket.//HMT Web App//EN
CALSCALE:GREGORIAN
METHOD:PUBLISH
X-WR-CALNAME:The Lensic
X-WR-CALDESC:Upcoming events at The Lensic
BEGIN:VTIMEZONE
TZID:America/Denver 
END:VTIMEZONE
BEGIN:VEVENT
SEQUENCE:2
TRANSP:OPAQUE
UID:e071937c20bec6ee9adadff00529de2a
DTSTART:20230427T193000
DTSTAMP:20230427T150154Z
SUMMARY:Watchhouse 
DESCRIPTION:Over a year after Andrew Marlin and Emily Frantz of Watchhouse (formerly known as Mandolin Orange) reintroduced themselves on their 2021 self-titled LP, the pair shared a special surprise release: Watchhouse (Duo), a self-produced recording of Marlin and Frantz performing the most elemental possible arrangements of all nine songs from Watchhouse. It's a project that captures the fundamental power of Watchhouse: Two singers and musicians with profound chemistry, performing earnest yet masterfully crafted songs that encompass the unknowable mysteries, existential heartbreak, and communal joys of modern life.
CREATED:20230427T150154Z
URL;VALUE=URI:http://holdmyticket.com/event/404350 

DTEND:20230427T220000
END:VEVENT
END:VCALENDAR