BEGIN:VCALENDAR
METHOD:PUBLISH
X-WR-TIMEZONE:America/New_York
PRODID:-//Hold My Ticket.//HMT Web App//EN
CALSCALE:GREGORIAN
METHOD:PUBLISH
X-WR-CALNAME:Terra Fermata
X-WR-CALDESC:Upcoming events at Terra Fermata
BEGIN:VTIMEZONE
TZID:America/New_York 
END:VTIMEZONE
BEGIN:VEVENT
SEQUENCE:2
TRANSP:OPAQUE
UID:fb00050c7b17797b9ed7fa3d03af3581
DTSTART:20230203T190000
DTSTAMP:20230203T150112Z
SUMMARY:CORKY LAING'S MOUNTAIN, Opener: Joey Tenuto Band w/Muggy Doo
DESCRIPTION:$10. Dont miss your chance to see the legendary rockers MOUNTAIN, led by Corky Laing, who played at Woodstock.
CREATED:20230203T150112Z
URL;VALUE=URI:http://holdmyticket.com/event/404407 

DTEND:20230203T220000
END:VEVENT
END:VCALENDAR