BEGIN:VCALENDAR
METHOD:PUBLISH
X-WR-TIMEZONE:America/New_York
PRODID:-//Hold My Ticket.//HMT Web App//EN
CALSCALE:GREGORIAN
METHOD:PUBLISH
X-WR-CALNAME:Thirsty Cowboy
X-WR-CALDESC:Upcoming events at Thirsty Cowboy
BEGIN:VTIMEZONE
TZID:America/New_York 
END:VTIMEZONE
BEGIN:VEVENT
SEQUENCE:2
TRANSP:OPAQUE
UID:fa5065146448289bde336524533146cd
DTSTART:20230114T220000
DTSTAMP:20230114T180117Z
SUMMARY:CHASE McDANIEL
DESCRIPTION:
CREATED:20230114T180117Z
URL;VALUE=URI:http://holdmyticket.com/event/404587 

DTEND:20230115T013000
END:VEVENT
END:VCALENDAR