BEGIN:VCALENDAR
METHOD:PUBLISH
X-WR-TIMEZONE:America/Denver
PRODID:-//Hold My Ticket.//HMT Web App//EN
CALSCALE:GREGORIAN
METHOD:PUBLISH
X-WR-CALNAME:The Oriental Theater
X-WR-CALDESC:Upcoming events at The Oriental Theater
BEGIN:VTIMEZONE
TZID:America/Denver 
END:VTIMEZONE
BEGIN:VEVENT
SEQUENCE:2
TRANSP:OPAQUE
UID:3c472f8e78cc48eb04c2c4d87f83525c
DTSTART:20230120T200000
DTSTAMP:20230120T160118Z
SUMMARY:Lucha Libre &amp; Laughs  ****SOLD OUT****
DESCRIPTION:
CREATED:20230120T160118Z
URL;VALUE=URI:http://holdmyticket.com/event/405055 

DTEND:20230120T230000
END:VEVENT
END:VCALENDAR