BEGIN:VCALENDAR
METHOD:PUBLISH
X-WR-TIMEZONE:America/Denver
PRODID:-//Hold My Ticket.//HMT Web App//EN
CALSCALE:GREGORIAN
METHOD:PUBLISH
X-WR-CALNAME:Tumbleroot Brewery & Distillery
X-WR-CALDESC:Upcoming events at Tumbleroot Brewery & Distillery
BEGIN:VTIMEZONE
TZID:America/Denver 
END:VTIMEZONE
BEGIN:VEVENT
SEQUENCE:2
TRANSP:OPAQUE
UID:d0a2dd21b46a661c379517c31248d270
DTSTART:20230405T193000
DTSTAMP:20230405T204123Z
SUMMARY:Rayland Baxter 
DESCRIPTION:For the making of his fourth album If I Were a Butterfly, Rayland Baxter holed up for over a year at a former rubber-band factory turned studio in the Kentucky countryside--a seemingly humble environment that proved to be something of a wonderland. "I spent that year living in a barn with the squirrels and the birds, on my own most of the time, and I discovered so much about music and how to create it," says the Tennessee-bred singer/songwriter. "Instead of going into a studio with a producer for two weeks, I just waited for the record to build itself. I'd get up and go outside, see a butterfly and connect that with some impulsive thought I'd had three months ago, and suddenly a song I'd been working on would make sense."
CREATED:20230405T204123Z
URL;VALUE=URI:http://holdmyticket.com/event/405746 

DTEND:20230405T233000
END:VEVENT
END:VCALENDAR