BEGIN:VCALENDAR
METHOD:PUBLISH
X-WR-TIMEZONE:America/New_York
PRODID:-//Hold My Ticket.//HMT Web App//EN
CALSCALE:GREGORIAN
METHOD:PUBLISH
X-WR-CALNAME:River Street Jazz Cafe
X-WR-CALDESC:Upcoming events at River Street Jazz Cafe
BEGIN:VTIMEZONE
TZID:America/New_York 
END:VTIMEZONE
BEGIN:VEVENT
SEQUENCE:2
TRANSP:OPAQUE
UID:210126319c10f407272a32d9c0b9e734
DTSTART:20230203T210000
DTSTAMP:20230203T170112Z
SUMMARY:HAYLEY JANE 
DESCRIPTION:
CREATED:20230203T170112Z
URL;VALUE=URI:http://holdmyticket.com/event/405939 

DTEND:20230204T010000
END:VEVENT
END:VCALENDAR