BEGIN:VCALENDAR
METHOD:PUBLISH
X-WR-TIMEZONE:America/New_York
PRODID:-//Hold My Ticket.//HMT Web App//EN
CALSCALE:GREGORIAN
METHOD:PUBLISH
X-WR-CALNAME:Terra Fermata
X-WR-CALDESC:Upcoming events at Terra Fermata
BEGIN:VTIMEZONE
TZID:America/New_York 
END:VTIMEZONE
BEGIN:VEVENT
SEQUENCE:2
TRANSP:OPAQUE
UID:fdfabe9f25cdc67ea665e38101d14365
DTSTART:20230130T190000
DTSTAMP:20230130T150106Z
SUMMARY:NEW WEEKLY EVENT - Monday Night Ramble
DESCRIPTION:
CREATED:20230130T150106Z
URL;VALUE=URI:http://holdmyticket.com/event/406908 

DTEND:20230130T220000
END:VEVENT
END:VCALENDAR